BEGIN:VCALENDAR
VERSION:2.0
PRODID:-//eventon.com NONSGML v1.0//EN
CALSCALE:GREGORIAN
METHOD:PUBLISH
BEGIN:VEVENT
UID:69e88760e2d06
DTSTAMP:20260422T083128Z
DTSTART:20240511T150000Z
DTEND:20240511T170000Z
LOCATION:Wandelraum Overath
SUMMARY:Lea Yoga Soiree
DESCRIPTION:Safe the Date!\nhttps://lea-yoga.de/events/lea-yoga-soiree-2/
URL:https://lea-yoga.de/events/lea-yoga-soiree-2/
END:VEVENT
END:VCALENDAR